BEGIN:VCALENDAR
VERSION:2.0
PRODID:-//Axa cursuri - ECPv6.3.7//NONSGML v1.0//EN
CALSCALE:GREGORIAN
METHOD:PUBLISH
X-WR-CALNAME:Axa cursuri
X-ORIGINAL-URL:https://axacursuri.ro
X-WR-CALDESC:Events for Axa cursuri
REFRESH-INTERVAL;VALUE=DURATION:PT1H
X-Robots-Tag:noindex
X-PUBLISHED-TTL:PT1H
BEGIN:VTIMEZONE
TZID:Europe/Bucharest
BEGIN:DAYLIGHT
TZOFFSETFROM:+0200
TZOFFSETTO:+0300
TZNAME:EEST
DTSTART:20230326T010000
END:DAYLIGHT
BEGIN:STANDARD
TZOFFSETFROM:+0300
TZOFFSETTO:+0200
TZNAME:EET
DTSTART:20231029T010000
END:STANDARD
END:VTIMEZONE
BEGIN:VEVENT
DTSTART;VALUE=DATE:20230424
DTEND;VALUE=DATE:20230430
DTSTAMP:20260420T080546
CREATED:20230413T005135Z
LAST-MODIFIED:20230425T120312Z
UID:12334-1682294400-1682812799@axacursuri.ro
SUMMARY:Curs pentru conducători auto şi însoţitori care efectuează transport rutier de animale vii
DESCRIPTION:
URL:https://axacursuri.ro/calendar/curs-pentru-conducatori-auto-si-insotitori-care-efectueaza-transport-rutier-de-animale-vii/
ORGANIZER;CN="AXA CURSURI":MAILTO:office@axacursuri.ro
END:VEVENT
BEGIN:VEVENT
DTSTART;VALUE=DATE:20230424
DTEND;VALUE=DATE:20230430
DTSTAMP:20260420T080546
CREATED:20230413T005236Z
LAST-MODIFIED:20230425T120126Z
UID:12336-1682294400-1682812799@axacursuri.ro
SUMMARY:Curs pentru conducători auto şi însoţitori care efectuează transport rutier de animale vii
DESCRIPTION:
URL:https://axacursuri.ro/calendar/curs-pentru-conducatori-auto-si-insotitori-care-efectueaza-transport-rutier-de-animale-vii-2/
ORGANIZER;CN="AXA CURSURI":MAILTO:office@axacursuri.ro
END:VEVENT
END:VCALENDAR